BEGIN:VCALENDAR
VERSION:2.0
PRODID:-//wp-events-plugin.com//7.2.3.1//EN
TZID:America/Regina
X-WR-TIMEZONE:America/Regina
BEGIN:VEVENT
UID:3468@townofbalgonie.ca
DTSTART;TZID=America/Regina:20230211T140000
DTEND;TZID=America/Regina:20230211T190000
DTSTAMP:20230127T223728Z
URL:https://townofbalgonie.ca/events/2-6-4-spiel-2/
SUMMARY:2-6-4 Spiel
DESCRIPTION:2 people\, 6 rocks\, 4 ends. No sweeping. $20/person entry fee.
  Cash payout.\n\nFundraiser for Team Kessel U21 National's Trip.\n\nGames 
 start at 2:00 PM.\n\nText or call Jackie at 306.533.8079 to pre register.
CATEGORIES:Curling
LOCATION:Balgonie Curling Club\, Balgonie Curling Club\, Balgonie\, Canada
GEO:50.4903116;-104.27003330000002
X-APPLE-STRUCTURED-LOCATION;VALUE=URI;X-ADDRESS=Balgonie Curling Club\, Bal
 gonie\, Canada;X-APPLE-RADIUS=100;X-TITLE=Balgonie Curling Club:geo:50.490
 3116,-104.27003330000002
END:VEVENT
BEGIN:VTIMEZONE
TZID:America/Regina
X-LIC-LOCATION:America/Regina
BEGIN:STANDARD
DTSTART:20220211T140000
TZOFFSETFROM:-0600
TZOFFSETTO:-0600
TZNAME:CST
END:STANDARD
END:VTIMEZONE
END:VCALENDAR