BEGIN:VCALENDAR
VERSION:2.0
PRODID:-//wp-events-plugin.com//7.2.3.1//EN
TZID:America/Regina
X-WR-TIMEZONE:America/Regina
BEGIN:VEVENT
UID:3891@townofbalgonie.ca
DTSTART;TZID=America/Regina:20231210T130000
DTEND;TZID=America/Regina:20231210T150000
DTSTAMP:20231108T214639Z
URL:https://townofbalgonie.ca/events/balgonie-library-christmas-extravagan
 za-2/
SUMMARY:Balgonie Library Christmas Extravaganza
DESCRIPTION:Join us for our 3rd annual Balgonie Library Christmas Extravaga
 nza!\n\n 	cookie decorating\n 	face painting\n 	balloons\n 	photos with Sa
 nta &amp\; much more!\n\nNEW this year is the Elf Shop! A special place wh
 ere children can buy their loved ones a gift (for a loonie) and have it wr
 apped for Christmas!
CATEGORIES:Community Event
LOCATION:Balgonie Multiplex\, Balgonie Multiplex\, Balgonie\, Saskatchewan\
 , Canada
GEO:50.4905665;-104.2732593
X-APPLE-STRUCTURED-LOCATION;VALUE=URI;X-ADDRESS=Balgonie Multiplex\, Balgon
 ie\, Saskatchewan\, Canada;X-APPLE-RADIUS=100;X-TITLE=Balgonie Multiplex:g
 eo:50.4905665,-104.2732593
END:VEVENT
BEGIN:VTIMEZONE
TZID:America/Regina
X-LIC-LOCATION:America/Regina
BEGIN:STANDARD
DTSTART:20221210T130000
TZOFFSETFROM:-0600
TZOFFSETTO:-0600
TZNAME:CST
END:STANDARD
END:VTIMEZONE
END:VCALENDAR