BEGIN:VCALENDAR
VERSION:2.0
PRODID:-//wp-events-plugin.com//7.2.3.1//EN
TZID:America/Regina
X-WR-TIMEZONE:America/Regina
BEGIN:VEVENT
UID:258@townofbalgonie.ca
DTSTART;TZID=America/Regina;VALUE=DATE:20180301
DTEND;TZID=America/Regina;VALUE=DATE:20180302
DTSTAMP:20180227T030050Z
URL:https://townofbalgonie.ca/events/balgonie-soccer-registration/
SUMMARY:Balgonie Soccer Registration
DESCRIPTION:Online registration begins March 1st http://balgoniesoccer.com
END:VEVENT
BEGIN:VTIMEZONE
TZID:America/Regina
X-LIC-LOCATION:America/Regina
BEGIN:STANDARD
DTSTART:20170301T000000
TZOFFSETFROM:-0600
TZOFFSETTO:-0600
TZNAME:CST
END:STANDARD
END:VTIMEZONE
END:VCALENDAR