BEGIN:VCALENDAR
VERSION:2.0
PRODID:-//wp-events-plugin.com//7.2.3.1//EN
TZID:America/Regina
X-WR-TIMEZONE:America/Regina
BEGIN:VEVENT
UID:5997@townofbalgonie.ca
DTSTART;TZID=America/Regina:20260410T133000
DTEND;TZID=America/Regina:20260410T143000
DTSTAMP:20260327T171321Z
URL:https://townofbalgonie.ca/events/beginner-crochet-workshop/
SUMMARY:Beginner Crochet Workshop
DESCRIPTION:For teens! Please register in advance as materials will be supp
 lied for the class.
CATEGORIES:Library
LOCATION:Balgonie Library\, Balgonie Library\, Balgonie\, Canada
GEO:50.491779;-104.26726100000002
X-APPLE-STRUCTURED-LOCATION;VALUE=URI;X-ADDRESS=Balgonie Library\, Balgonie
 \, Canada;X-APPLE-RADIUS=100;X-TITLE=Balgonie Library:geo:50.491779,-104.2
 6726100000002
END:VEVENT
BEGIN:VTIMEZONE
TZID:America/Regina
X-LIC-LOCATION:America/Regina
BEGIN:STANDARD
DTSTART:20250410T133000
TZOFFSETFROM:-0600
TZOFFSETTO:-0600
TZNAME:CST
END:STANDARD
END:VTIMEZONE
END:VCALENDAR