BEGIN:VCALENDAR
VERSION:2.0
PRODID:-//wp-events-plugin.com//7.2.3.1//EN
TZID:America/Regina
X-WR-TIMEZONE:America/Regina
BEGIN:VEVENT
UID:3886@townofbalgonie.ca
DTSTART;TZID=America/Regina:20231111T103000
DTEND;TZID=America/Regina:20231111T113000
DTSTAMP:20231108T212355Z
URL:https://townofbalgonie.ca/events/remembrance-day-service-3/
SUMMARY:Remembrance Day Service
DESCRIPTION:The churches of Balgonie invite you to their annual Remembrance
  Day Service.\n\n10:30 AM\, St. Joeseph Roman Catholic Church\n\nFollowed 
 by procession to the Cenotaph and Luncheon\n\nEveryone is welcome to atten
 d.\n\nHosted by Balgonie United Church.
CATEGORIES:Church
LOCATION:St. Joseph's Church\, St. Joseph's Church\, Balgonie\, Canada
GEO:50.48819349999999;-104.27286549999997
X-APPLE-STRUCTURED-LOCATION;VALUE=URI;X-ADDRESS=St. Joseph's Church\, Balgo
 nie\, Canada;X-APPLE-RADIUS=100;X-TITLE=St. Joseph's Church:geo:50.4881934
 9999999,-104.27286549999997
END:VEVENT
BEGIN:VTIMEZONE
TZID:America/Regina
X-LIC-LOCATION:America/Regina
BEGIN:STANDARD
DTSTART:20221111T103000
TZOFFSETFROM:-0600
TZOFFSETTO:-0600
TZNAME:CST
END:STANDARD
END:VTIMEZONE
END:VCALENDAR