BEGIN:VCALENDAR
VERSION:2.0
PRODID:-//wp-events-plugin.com//7.2.3.1//EN
TZID:America/Regina
X-WR-TIMEZONE:America/Regina
BEGIN:VEVENT
UID:4982@townofbalgonie.ca
DTSTART;TZID=America/Regina:20241101T090000
DTEND;TZID=America/Regina:20241101T150000
DTSTAMP:20240927T192954Z
URL:https://townofbalgonie.ca/events/stay-safe-and-babysitting-courses/
SUMMARY:Stay Safe and Babysitting Courses
DESCRIPTION:Heartland First Aid Training is bringing back two great Canadia
 n Red Cross Courses for Balgonie &amp\; area youth! These courses will be 
 held at at the 50+ Club\, 132 Queen Street in Balgonie\, SK.\n\nFor more i
 nformation or to register\, go to www.heartlandfirstaid.com.
LOCATION:50+ Centre\, 132 Queen Street\, Balgonie\, Saskatchewan\, Canada
GEO:50.4904243;-104.26801089999998
X-APPLE-STRUCTURED-LOCATION;VALUE=URI;X-ADDRESS=132 Queen Street\, Balgonie
 \, Saskatchewan\, Canada;X-APPLE-RADIUS=100;X-TITLE=50+ Centre:geo:50.4904
 243,-104.26801089999998
END:VEVENT
BEGIN:VTIMEZONE
TZID:America/Regina
X-LIC-LOCATION:America/Regina
BEGIN:STANDARD
DTSTART:20231102T090000
TZOFFSETFROM:-0600
TZOFFSETTO:-0600
TZNAME:CST
END:STANDARD
END:VTIMEZONE
END:VCALENDAR