BEGIN:VCALENDAR
VERSION:2.0
PRODID:-//wp-events-plugin.com//7.2.3.1//EN
TZID:America/Regina
X-WR-TIMEZONE:America/Regina
BEGIN:VEVENT
UID:2386@townofbalgonie.ca
DTSTART;TZID=America/Regina;VALUE=DATE:20220523
DTEND;TZID=America/Regina;VALUE=DATE:20220524
DTSTAMP:20211231T164513Z
URL:https://townofbalgonie.ca/events/town-of-balgonie-office-closed-victor
 ia-day/
SUMMARY:Town of Balgonie Office Closed - Victoria Day
DESCRIPTION:
CATEGORIES:Holidays
END:VEVENT
BEGIN:VTIMEZONE
TZID:America/Regina
X-LIC-LOCATION:America/Regina
BEGIN:STANDARD
DTSTART:20210523T000000
TZOFFSETFROM:-0600
TZOFFSETTO:-0600
TZNAME:CST
END:STANDARD
END:VTIMEZONE
END:VCALENDAR