BEGIN:VCALENDAR
VERSION:2.0
PRODID:-//wp-events-plugin.com//7.2.3.1//EN
TZID:America/Regina
X-WR-TIMEZONE:America/Regina
BEGIN:VEVENT
UID:3566@townofbalgonie.ca
DTSTART;TZID=America/Regina:20230808T090000
DTEND;TZID=America/Regina:20230811T120000
DTSTAMP:20230801T154853Z
URL:https://townofbalgonie.ca/events/vacation-bible-school-4/
SUMMARY:Vacation Bible School
DESCRIPTION:Vacation Bible School for kids age 4 - grade 6.\n\nRegister at 
 www.balgoniebaptist.org
CATEGORIES:Church
LOCATION:Balgonie Baptist Church\, Balgonie Baptist Church\, Balgonie\, Sas
 katchewan\, Canada
GEO:50.485639;-104.26873
X-APPLE-STRUCTURED-LOCATION;VALUE=URI;X-ADDRESS=Balgonie Baptist Church\, B
 algonie\, Saskatchewan\, Canada;X-APPLE-RADIUS=100;X-TITLE=Balgonie Baptis
 t Church:geo:50.485639,-104.26873
END:VEVENT
BEGIN:VTIMEZONE
TZID:America/Regina
X-LIC-LOCATION:America/Regina
BEGIN:STANDARD
DTSTART:20220808T090000
TZOFFSETFROM:-0600
TZOFFSETTO:-0600
TZNAME:CST
END:STANDARD
END:VTIMEZONE
END:VCALENDAR