BEGIN:VCALENDAR
VERSION:2.0
PRODID:-//wp-events-plugin.com//7.2.3.1//EN
TZID:America/Regina
X-WR-TIMEZONE:America/Regina
BEGIN:VEVENT
UID:5940@townofbalgonie.ca
DTSTART;TZID=America/Regina:20260320T190000
DTEND;TZID=America/Regina:20260320T223000
DTSTAMP:20260226T165238Z
URL:https://townofbalgonie.ca/events/wind-up-spiel/
SUMMARY:Wind-up Spiel
DESCRIPTION:$200/team (4 people/team)\, 6 ends\, 3 games\, guaranteed cash 
 prizes!\n\nText or call Brandon at 306-551-2056!\n\nAll teams\, ages &amp\
 ; skill levels welcome!
CATEGORIES:Curling
LOCATION:Balgonie Curling Club\, Balgonie Curling Club\, Balgonie\, Canada
GEO:50.4903116;-104.27003330000002
X-APPLE-STRUCTURED-LOCATION;VALUE=URI;X-ADDRESS=Balgonie Curling Club\, Bal
 gonie\, Canada;X-APPLE-RADIUS=100;X-TITLE=Balgonie Curling Club:geo:50.490
 3116,-104.27003330000002
END:VEVENT
BEGIN:VTIMEZONE
TZID:America/Regina
X-LIC-LOCATION:America/Regina
BEGIN:STANDARD
DTSTART:20250320T190000
TZOFFSETFROM:-0600
TZOFFSETTO:-0600
TZNAME:CST
END:STANDARD
END:VTIMEZONE
END:VCALENDAR